BEGIN:VCALENDAR
VERSION:2.0
PRODID:-//ICA - 常春藤美式寄宿學校 - ECPv6.6.4.1//NONSGML v1.0//EN
CALSCALE:GREGORIAN
METHOD:PUBLISH
X-ORIGINAL-URL:https://ica.ivyjhs.tc.edu.tw
X-WR-CALDESC:Events for ICA - 常春藤美式寄宿學校
REFRESH-INTERVAL;VALUE=DURATION:PT1H
X-Robots-Tag:noindex
X-PUBLISHED-TTL:PT1H
BEGIN:VTIMEZONE
TZID:Asia/Shanghai
BEGIN:STANDARD
TZOFFSETFROM:+0800
TZOFFSETTO:+0800
TZNAME:CST
DTSTART:20260101T000000
END:STANDARD
END:VTIMEZONE
BEGIN:VEVENT
DTSTART;TZID=Asia/Shanghai:20260401T123000
DTEND;TZID=Asia/Shanghai:20260408T180000
DTSTAMP:20260421T183636
CREATED:20260317T074421Z
LAST-MODIFIED:20260317T074421Z
UID:9537-1775046600-1775671200@ica.ivyjhs.tc.edu.tw
SUMMARY:Spring Break
DESCRIPTION:
URL:https://ica.ivyjhs.tc.edu.tw/event/spring-break-2/
END:VEVENT
BEGIN:VEVENT
DTSTART;TZID=Asia/Shanghai:20260401T130000
DTEND;TZID=Asia/Shanghai:20260401T180000
DTSTAMP:20260421T183636
CREATED:20260317T074327Z
LAST-MODIFIED:20260317T074327Z
UID:9535-1775048400-1775066400@ica.ivyjhs.tc.edu.tw
SUMMARY:Spring Break Dismissal 1PM
DESCRIPTION:
URL:https://ica.ivyjhs.tc.edu.tw/event/spring-break-dismissal-1pm/
END:VEVENT
BEGIN:VEVENT
DTSTART;TZID=Asia/Shanghai:20260410T150000
DTEND;TZID=Asia/Shanghai:20260410T180000
DTSTAMP:20260421T183636
CREATED:20260317T074650Z
LAST-MODIFIED:20260317T074650Z
UID:9541-1775833200-1775844000@ica.ivyjhs.tc.edu.tw
SUMMARY:House Competition :Social Studies Smackdown
DESCRIPTION:
URL:https://ica.ivyjhs.tc.edu.tw/event/house-competition-social-studies-smackdown/
END:VEVENT
BEGIN:VEVENT
DTSTART;TZID=Asia/Shanghai:20260411T123000
DTEND;TZID=Asia/Shanghai:20260412T180000
DTSTAMP:20260421T183636
CREATED:20260317T074523Z
LAST-MODIFIED:20260317T074523Z
UID:9539-1775910600-1776016800@ica.ivyjhs.tc.edu.tw
SUMMARY:Closed Weekend
DESCRIPTION:
URL:https://ica.ivyjhs.tc.edu.tw/event/closed-weekend-22/
END:VEVENT
BEGIN:VEVENT
DTSTART;TZID=Asia/Shanghai:20260413T153000
DTEND;TZID=Asia/Shanghai:20260413T183000
DTSTAMP:20260421T183636
CREATED:20260413T035346Z
LAST-MODIFIED:20260413T035346Z
UID:9617-1776094200-1776105000@ica.ivyjhs.tc.edu.tw
SUMMARY:JV Boys Volleyball / JV Girls Soccer @ MAC
DESCRIPTION:
URL:https://ica.ivyjhs.tc.edu.tw/event/jv-boys-volleyball-jv-girls-soccer-mac/
END:VEVENT
BEGIN:VEVENT
DTSTART;VALUE=DATE:20260414
DTEND;VALUE=DATE:20260415
DTSTAMP:20260421T183636
CREATED:20260413T035133Z
LAST-MODIFIED:20260413T035133Z
UID:9611-1776124800-1776211199@ica.ivyjhs.tc.edu.tw
SUMMARY:National Choir Competition @ Kaohsiung
DESCRIPTION:
URL:https://ica.ivyjhs.tc.edu.tw/event/national-choir-competition-kaohsiung/
END:VEVENT
BEGIN:VEVENT
DTSTART;TZID=Asia/Shanghai:20260414T160000
DTEND;TZID=Asia/Shanghai:20260414T183000
DTSTAMP:20260421T183636
CREATED:20260413T035426Z
LAST-MODIFIED:20260413T035426Z
UID:9619-1776182400-1776191400@ica.ivyjhs.tc.edu.tw
SUMMARY:Varsity Boys Volleyball / Varsity Girls Soccer\, MAK @ ICA
DESCRIPTION:
URL:https://ica.ivyjhs.tc.edu.tw/event/varsity-boys-volleyball-varsity-girls-soccer-mak-ica/
END:VEVENT
BEGIN:VEVENT
DTSTART;TZID=Asia/Shanghai:20260415T130000
DTEND;TZID=Asia/Shanghai:20260415T153000
DTSTAMP:20260421T183636
CREATED:20260413T035254Z
LAST-MODIFIED:20260413T035254Z
UID:9615-1776258000-1776267000@ica.ivyjhs.tc.edu.tw
SUMMARY:AEO USA Fair @ New Auditorium
DESCRIPTION:
URL:https://ica.ivyjhs.tc.edu.tw/event/aeo-usa-fair-new-auditorium/
END:VEVENT
BEGIN:VEVENT
DTSTART;TZID=Asia/Shanghai:20260415T153000
DTEND;TZID=Asia/Shanghai:20260415T183000
DTSTAMP:20260421T183636
CREATED:20260413T035509Z
LAST-MODIFIED:20260413T035509Z
UID:9621-1776267000-1776277800@ica.ivyjhs.tc.edu.tw
SUMMARY:MS G8 Basketball @ MAC
DESCRIPTION:
URL:https://ica.ivyjhs.tc.edu.tw/event/ms-g8-basketball-mac/
END:VEVENT
BEGIN:VEVENT
DTSTART;VALUE=DATE:20260417
DTEND;VALUE=DATE:20260419
DTSTAMP:20260421T183636
CREATED:20260413T035213Z
LAST-MODIFIED:20260413T035213Z
UID:9613-1776384000-1776556799@ica.ivyjhs.tc.edu.tw
SUMMARY:Glamping + Student awards Trip
DESCRIPTION:
URL:https://ica.ivyjhs.tc.edu.tw/event/glamping-student-awards-trip/
END:VEVENT
BEGIN:VEVENT
DTSTART;TZID=Asia/Shanghai:20260417T123000
DTEND;TZID=Asia/Shanghai:20260417T210000
DTSTAMP:20260421T183636
CREATED:20260413T035554Z
LAST-MODIFIED:20260413T035554Z
UID:9623-1776429000-1776459600@ica.ivyjhs.tc.edu.tw
SUMMARY:JV Boys Volleyball / JV Girls Soccer @ MAK
DESCRIPTION:
URL:https://ica.ivyjhs.tc.edu.tw/event/jv-boys-volleyball-jv-girls-soccer-mak/
END:VEVENT
BEGIN:VEVENT
DTSTART;TZID=Asia/Shanghai:20260417T143000
DTEND;TZID=Asia/Shanghai:20260417T180000
DTSTAMP:20260421T183636
CREATED:20260413T035643Z
LAST-MODIFIED:20260413T035643Z
UID:9625-1776436200-1776448800@ica.ivyjhs.tc.edu.tw
SUMMARY:Softball Practice @  Tanzi National and Children's Sports Center
DESCRIPTION:
URL:https://ica.ivyjhs.tc.edu.tw/event/softball-practice-tanzi-national-and-childrens-sports-center/
END:VEVENT
BEGIN:VEVENT
DTSTART;TZID=Asia/Shanghai:20260418T123000
DTEND;TZID=Asia/Shanghai:20260419T180000
DTSTAMP:20260421T183636
CREATED:20260317T074824Z
LAST-MODIFIED:20260317T074824Z
UID:9543-1776515400-1776621600@ica.ivyjhs.tc.edu.tw
SUMMARY:Open Weekend
DESCRIPTION:
URL:https://ica.ivyjhs.tc.edu.tw/event/open-weekend-32/
END:VEVENT
BEGIN:VEVENT
DTSTART;TZID=Asia/Shanghai:20260420T123000
DTEND;TZID=Asia/Shanghai:20260420T213000
DTSTAMP:20260421T183636
CREATED:20260420T055402Z
LAST-MODIFIED:20260420T055402Z
UID:9644-1776688200-1776720600@ica.ivyjhs.tc.edu.tw
SUMMARY:Varsity Boys Volleyball / Varsity Girls Soccer @ KAS
DESCRIPTION:
URL:https://ica.ivyjhs.tc.edu.tw/event/varsity-boys-volleyball-varsity-girls-soccer-kas/
END:VEVENT
BEGIN:VEVENT
DTSTART;TZID=Asia/Shanghai:20260421T153000
DTEND;TZID=Asia/Shanghai:20260421T183000
DTSTAMP:20260421T183636
CREATED:20260420T055448Z
LAST-MODIFIED:20260420T055448Z
UID:9646-1776785400-1776796200@ica.ivyjhs.tc.edu.tw
SUMMARY:MS G8 Basketball @ AST
DESCRIPTION:
URL:https://ica.ivyjhs.tc.edu.tw/event/ms-g8-basketball-ast/
END:VEVENT
BEGIN:VEVENT
DTSTART;TZID=Asia/Shanghai:20260422T080000
DTEND;TZID=Asia/Shanghai:20260422T123000
DTSTAMP:20260421T183636
CREATED:20260317T074938Z
LAST-MODIFIED:20260317T074938Z
UID:9545-1776844800-1776861000@ica.ivyjhs.tc.edu.tw
SUMMARY:PSAT Grade 10 8AM-12PM
DESCRIPTION:
URL:https://ica.ivyjhs.tc.edu.tw/event/psat-grade-10-8am-12pm/
END:VEVENT
BEGIN:VEVENT
DTSTART;TZID=Asia/Shanghai:20260422T160000
DTEND;TZID=Asia/Shanghai:20260422T180000
DTSTAMP:20260421T183636
CREATED:20260420T055537Z
LAST-MODIFIED:20260420T055537Z
UID:9648-1776873600-1776880800@ica.ivyjhs.tc.edu.tw
SUMMARY:JV Boys Volleyball / Varsity Boys Volleyball\, IIS@ICA
DESCRIPTION:
URL:https://ica.ivyjhs.tc.edu.tw/event/jv-boys-volleyball-varsity-boys-volleyball-iisica/
END:VEVENT
BEGIN:VEVENT
DTSTART;TZID=Asia/Shanghai:20260422T190000
DTEND;TZID=Asia/Shanghai:20260423T220000
DTSTAMP:20260421T183636
CREATED:20260420T055851Z
LAST-MODIFIED:20260420T055851Z
UID:9656-1776884400-1776981600@ica.ivyjhs.tc.edu.tw
SUMMARY:Science Fair @ New Auditorium
DESCRIPTION:
URL:https://ica.ivyjhs.tc.edu.tw/event/science-fair-new-auditorium/
END:VEVENT
BEGIN:VEVENT
DTSTART;TZID=Asia/Shanghai:20260423T080000
DTEND;TZID=Asia/Shanghai:20260423T110000
DTSTAMP:20260421T183636
CREATED:20260317T075024Z
LAST-MODIFIED:20260317T075024Z
UID:9547-1776931200-1776942000@ica.ivyjhs.tc.edu.tw
SUMMARY:PSAT 8/9 8-11am
DESCRIPTION:
URL:https://ica.ivyjhs.tc.edu.tw/event/psat-8-9-8-11am/
END:VEVENT
BEGIN:VEVENT
DTSTART;TZID=Asia/Shanghai:20260424T143000
DTEND;TZID=Asia/Shanghai:20260424T180000
DTSTAMP:20260421T183636
CREATED:20260420T055622Z
LAST-MODIFIED:20260420T055622Z
UID:9650-1777041000-1777053600@ica.ivyjhs.tc.edu.tw
SUMMARY:Softball Practice @ Tanzi Softball Field
DESCRIPTION:
URL:https://ica.ivyjhs.tc.edu.tw/event/softball-practice-tanzi-softball-field/
END:VEVENT
BEGIN:VEVENT
DTSTART;TZID=Asia/Shanghai:20260424T190000
DTEND;TZID=Asia/Shanghai:20260424T210000
DTSTAMP:20260421T183636
CREATED:20260420T055931Z
LAST-MODIFIED:20260420T055931Z
UID:9658-1777057200-1777064400@ica.ivyjhs.tc.edu.tw
SUMMARY:Talent show @ New Auditorium
DESCRIPTION:
URL:https://ica.ivyjhs.tc.edu.tw/event/talent-show-new-auditorium/
END:VEVENT
BEGIN:VEVENT
DTSTART;VALUE=DATE:20260425
DTEND;VALUE=DATE:20260426
DTSTAMP:20260421T183636
CREATED:20260420T055321Z
LAST-MODIFIED:20260420T055321Z
UID:9642-1777075200-1777161599@ica.ivyjhs.tc.edu.tw
SUMMARY:Annual French Drama Competition @ Caves Bookstore
DESCRIPTION:
URL:https://ica.ivyjhs.tc.edu.tw/event/annual-french-drama-competition-caves-bookstore/
END:VEVENT
BEGIN:VEVENT
DTSTART;VALUE=DATE:20260425
DTEND;VALUE=DATE:20260426
DTSTAMP:20260421T183636
CREATED:20260420T055713Z
LAST-MODIFIED:20260420T055713Z
UID:9652-1777075200-1777161599@ica.ivyjhs.tc.edu.tw
SUMMARY:TISSA JV Girls Soccer @ DIS
DESCRIPTION:
URL:https://ica.ivyjhs.tc.edu.tw/event/tissa-jv-girls-soccer-dis/
END:VEVENT
BEGIN:VEVENT
DTSTART;VALUE=DATE:20260425
DTEND;VALUE=DATE:20260426
DTSTAMP:20260421T183636
CREATED:20260420T055749Z
LAST-MODIFIED:20260420T055749Z
UID:9654-1777075200-1777161599@ica.ivyjhs.tc.edu.tw
SUMMARY:TISSA Softball @ KSS
DESCRIPTION:
URL:https://ica.ivyjhs.tc.edu.tw/event/tissa-softball-kss-2/
END:VEVENT
BEGIN:VEVENT
DTSTART;TZID=Asia/Shanghai:20260425T100000
DTEND;TZID=Asia/Shanghai:20260425T120000
DTSTAMP:20260421T183636
CREATED:20260420T060027Z
LAST-MODIFIED:20260420T060027Z
UID:9660-1777111200-1777118400@ica.ivyjhs.tc.edu.tw
SUMMARY:Grade 8 parent meeting - Freshman Readiness Workshop\, 10:00am @ New Auditorium
DESCRIPTION:
URL:https://ica.ivyjhs.tc.edu.tw/event/grade-8-parent-meeting-freshman-readiness-workshop-1000am-new-auditorium/
END:VEVENT
BEGIN:VEVENT
DTSTART;TZID=Asia/Shanghai:20260425T120000
DTEND;TZID=Asia/Shanghai:20260426T180000
DTSTAMP:20260421T183636
CREATED:20260317T075111Z
LAST-MODIFIED:20260317T075111Z
UID:9549-1777118400-1777226400@ica.ivyjhs.tc.edu.tw
SUMMARY:Closed Weekend
DESCRIPTION:
URL:https://ica.ivyjhs.tc.edu.tw/event/closed-weekend-23/
END:VEVENT
BEGIN:VEVENT
DTSTART;TZID=Asia/Shanghai:20260509T123000
DTEND;TZID=Asia/Shanghai:20260510T180000
DTSTAMP:20260421T183636
CREATED:20260413T035848Z
LAST-MODIFIED:20260413T035848Z
UID:9627-1778329800-1778436000@ica.ivyjhs.tc.edu.tw
SUMMARY:Open Weekend
DESCRIPTION:
URL:https://ica.ivyjhs.tc.edu.tw/event/open-weekend-33/
END:VEVENT
END:VCALENDAR