BEGIN:VCALENDAR
VERSION:2.0
PRODID:-//ICA - 常春藤美式寄宿學校 - ECPv6.6.4.1//NONSGML v1.0//EN
CALSCALE:GREGORIAN
METHOD:PUBLISH
X-ORIGINAL-URL:https://ica.ivyjhs.tc.edu.tw
X-WR-CALDESC:Events for ICA - 常春藤美式寄宿學校
REFRESH-INTERVAL;VALUE=DURATION:PT1H
X-Robots-Tag:noindex
X-PUBLISHED-TTL:PT1H
BEGIN:VTIMEZONE
TZID:Asia/Shanghai
BEGIN:STANDARD
TZOFFSETFROM:+0800
TZOFFSETTO:+0800
TZNAME:CST
DTSTART:20250101T000000
END:STANDARD
END:VTIMEZONE
BEGIN:VEVENT
DTSTART;TZID=Asia/Shanghai:20251018T123000
DTEND;TZID=Asia/Shanghai:20251019T180000
DTSTAMP:20260421T234126
CREATED:20250918T080210Z
LAST-MODIFIED:20250918T080210Z
UID:8595-1760790600-1760896800@ica.ivyjhs.tc.edu.tw
SUMMARY:Closed Weekend
DESCRIPTION:
URL:https://ica.ivyjhs.tc.edu.tw/event/closed-weekend-13/
END:VEVENT
BEGIN:VEVENT
DTSTART;TZID=Asia/Shanghai:20251021T123000
DTEND;TZID=Asia/Shanghai:20251021T170000
DTSTAMP:20260421T234126
CREATED:20251022T055452Z
LAST-MODIFIED:20251022T055452Z
UID:8763-1761049800-1761066000@ica.ivyjhs.tc.edu.tw
SUMMARY:JV Girls Volleyball ICA@IIS
DESCRIPTION:
URL:https://ica.ivyjhs.tc.edu.tw/event/jv-girls-volleyball-icaiis/
END:VEVENT
BEGIN:VEVENT
DTSTART;VALUE=DATE:20251022
DTEND;VALUE=DATE:20251023
DTSTAMP:20260421T234126
CREATED:20250918T080037Z
LAST-MODIFIED:20251013T060436Z
UID:8591-1761091200-1761177599@ica.ivyjhs.tc.edu.tw
SUMMARY:PSAT Grade 8\,9\,11 8 AM - 12 PM
DESCRIPTION:
URL:https://ica.ivyjhs.tc.edu.tw/event/psat-grade-8911-8-am-12-pm/
END:VEVENT
BEGIN:VEVENT
DTSTART;TZID=Asia/Shanghai:20251022T123000
DTEND;TZID=Asia/Shanghai:20251022T190000
DTSTAMP:20260421T234126
CREATED:20251022T055536Z
LAST-MODIFIED:20251022T055536Z
UID:8765-1761136200-1761159600@ica.ivyjhs.tc.edu.tw
SUMMARY:Varsity Boys Soccer Varsity Girls Volleyball ICA@MAK
DESCRIPTION:
URL:https://ica.ivyjhs.tc.edu.tw/event/varsity-boys-soccer-varsity-girls-volleyball-icamak/
END:VEVENT
BEGIN:VEVENT
DTSTART;TZID=Asia/Shanghai:20251024T080000
DTEND;TZID=Asia/Shanghai:20251025T090000
DTSTAMP:20260421T234126
CREATED:20251022T055705Z
LAST-MODIFIED:20251022T055705Z
UID:8769-1761292800-1761382800@ica.ivyjhs.tc.edu.tw
SUMMARY:Camping @Earthquake Lake
DESCRIPTION:
URL:https://ica.ivyjhs.tc.edu.tw/event/camping-earthquake-lake/
END:VEVENT
BEGIN:VEVENT
DTSTART;TZID=Asia/Shanghai:20251025T080000
DTEND;TZID=Asia/Shanghai:20251025T170000
DTSTAMP:20260421T234126
CREATED:20251022T055619Z
LAST-MODIFIED:20251022T055619Z
UID:8767-1761379200-1761411600@ica.ivyjhs.tc.edu.tw
SUMMARY:TISSA JV Boys Soccer @MAK
DESCRIPTION:
URL:https://ica.ivyjhs.tc.edu.tw/event/tissa-jv-boys-soccer-mak/
END:VEVENT
BEGIN:VEVENT
DTSTART;TZID=Asia/Shanghai:20251025T123000
DTEND;TZID=Asia/Shanghai:20251026T180000
DTSTAMP:20260421T234126
CREATED:20250918T080347Z
LAST-MODIFIED:20250918T080347Z
UID:8599-1761395400-1761501600@ica.ivyjhs.tc.edu.tw
SUMMARY:Closed Weekend
DESCRIPTION:
URL:https://ica.ivyjhs.tc.edu.tw/event/closed-weekend-15/
END:VEVENT
BEGIN:VEVENT
DTSTART;TZID=Asia/Shanghai:20251025T190000
DTEND;TZID=Asia/Shanghai:20251025T210000
DTSTAMP:20260421T234126
CREATED:20251022T055833Z
LAST-MODIFIED:20251022T055833Z
UID:8773-1761418800-1761426000@ica.ivyjhs.tc.edu.tw
SUMMARY:STUGO Dance @New Auditorium\, 7-9pm
DESCRIPTION:
URL:https://ica.ivyjhs.tc.edu.tw/event/stugo-dance-new-auditorium-7-9pm/
END:VEVENT
BEGIN:VEVENT
DTSTART;TZID=Asia/Shanghai:20251026T073000
DTEND;TZID=Asia/Shanghai:20251026T170000
DTSTAMP:20260421T234126
CREATED:20251022T055748Z
LAST-MODIFIED:20251022T055748Z
UID:8771-1761463800-1761498000@ica.ivyjhs.tc.edu.tw
SUMMARY:Prefect Trip @Wind Valley Tree Climbing Site
DESCRIPTION:
URL:https://ica.ivyjhs.tc.edu.tw/event/prefect-trip-wind-valley-tree-climbing-site/
END:VEVENT
BEGIN:VEVENT
DTSTART;VALUE=DATE:20251027
DTEND;VALUE=DATE:20251102
DTSTAMP:20260421T234126
CREATED:20250918T080649Z
LAST-MODIFIED:20250918T080649Z
UID:8605-1761523200-1762041599@ica.ivyjhs.tc.edu.tw
SUMMARY:2025 THIMUN Singapore Conference
DESCRIPTION:
URL:https://ica.ivyjhs.tc.edu.tw/event/2025-thimun-singapore-conference/
END:VEVENT
BEGIN:VEVENT
DTSTART;TZID=Asia/Shanghai:20251027T123000
DTEND;TZID=Asia/Shanghai:20251027T180000
DTSTAMP:20260421T234126
CREATED:20251027T035509Z
LAST-MODIFIED:20251027T035509Z
UID:8786-1761568200-1761588000@ica.ivyjhs.tc.edu.tw
SUMMARY:Varsity Boys Soccer/ Varsity Girls Volleyball ICA@MAT
DESCRIPTION:
URL:https://ica.ivyjhs.tc.edu.tw/event/varsity-boys-soccer-varsity-girls-volleyball-icamat/
END:VEVENT
BEGIN:VEVENT
DTSTART;TZID=Asia/Shanghai:20251027T163000
DTEND;TZID=Asia/Shanghai:20251027T180000
DTSTAMP:20260421T234126
CREATED:20250918T080548Z
LAST-MODIFIED:20250918T080548Z
UID:8603-1761582600-1761588000@ica.ivyjhs.tc.edu.tw
SUMMARY:House Competition: Pumpkin Decorating
DESCRIPTION:
URL:https://ica.ivyjhs.tc.edu.tw/event/house-competition-pumpkin-decorating/
END:VEVENT
BEGIN:VEVENT
DTSTART;TZID=Asia/Shanghai:20251029T123000
DTEND;TZID=Asia/Shanghai:20251029T190000
DTSTAMP:20260421T234126
CREATED:20251027T035600Z
LAST-MODIFIED:20251027T035600Z
UID:8788-1761741000-1761764400@ica.ivyjhs.tc.edu.tw
SUMMARY:Varsity Boys Soccer/ Varsity Girls Volleyball ICA@IIS
DESCRIPTION:
URL:https://ica.ivyjhs.tc.edu.tw/event/varsity-boys-soccer-varsity-girls-volleyball-icaiis/
END:VEVENT
BEGIN:VEVENT
DTSTART;VALUE=DATE:20251031
DTEND;VALUE=DATE:20251101
DTSTAMP:20260421T234126
CREATED:20250918T080741Z
LAST-MODIFIED:20250918T080741Z
UID:8607-1761868800-1761955199@ica.ivyjhs.tc.edu.tw
SUMMARY:Quarter 1 End
DESCRIPTION:
URL:https://ica.ivyjhs.tc.edu.tw/event/quarter-1-end/
END:VEVENT
BEGIN:VEVENT
DTSTART;TZID=Asia/Shanghai:20251031T123000
DTEND;TZID=Asia/Shanghai:20251031T180000
DTSTAMP:20260421T234126
CREATED:20250918T080840Z
LAST-MODIFIED:20250918T080840Z
UID:8609-1761913800-1761933600@ica.ivyjhs.tc.edu.tw
SUMMARY:Fall Break: Dismissal @ 1 PM
DESCRIPTION:
URL:https://ica.ivyjhs.tc.edu.tw/event/fall-break-dismissal-1-pm/
END:VEVENT
BEGIN:VEVENT
DTSTART;TZID=Asia/Shanghai:20251031T123000
DTEND;TZID=Asia/Shanghai:20251104T180000
DTSTAMP:20260421T234126
CREATED:20250918T080943Z
LAST-MODIFIED:20250918T081005Z
UID:8611-1761913800-1762279200@ica.ivyjhs.tc.edu.tw
SUMMARY:Fall Break: Oct 31 - Nov 4
DESCRIPTION:
URL:https://ica.ivyjhs.tc.edu.tw/event/fall-break-oct-31-nov-4/
END:VEVENT
BEGIN:VEVENT
DTSTART;TZID=Asia/Shanghai:20251031T130000
DTEND;TZID=Asia/Shanghai:20251031T160000
DTSTAMP:20260421T234126
CREATED:20251027T040102Z
LAST-MODIFIED:20251027T040102Z
UID:8796-1761915600-1761926400@ica.ivyjhs.tc.edu.tw
SUMMARY:Wellness Training Session @New Auditorium\, start at 1:15pm
DESCRIPTION:
URL:https://ica.ivyjhs.tc.edu.tw/event/wellness-training-session-new-auditorium-start-at-115pm/
END:VEVENT
BEGIN:VEVENT
DTSTART;VALUE=DATE:20251101
DTEND;VALUE=DATE:20251102
DTSTAMP:20260421T234126
CREATED:20251027T035738Z
LAST-MODIFIED:20251027T035738Z
UID:8790-1761955200-1762041599@ica.ivyjhs.tc.edu.tw
SUMMARY:Varsity Boys Soccer @ MAC
DESCRIPTION:
URL:https://ica.ivyjhs.tc.edu.tw/event/varsity-boys-soccer-mac/
END:VEVENT
BEGIN:VEVENT
DTSTART;VALUE=DATE:20251101
DTEND;VALUE=DATE:20251102
DTSTAMP:20260421T234126
CREATED:20251027T035927Z
LAST-MODIFIED:20251027T035927Z
UID:8792-1761955200-1762041599@ica.ivyjhs.tc.edu.tw
SUMMARY:Varsity Girls Volleyball @ KAS
DESCRIPTION:
URL:https://ica.ivyjhs.tc.edu.tw/event/varsity-girls-volleyball-kas/
END:VEVENT
BEGIN:VEVENT
DTSTART;VALUE=DATE:20251101
DTEND;VALUE=DATE:20251102
DTSTAMP:20260421T234126
CREATED:20251027T040002Z
LAST-MODIFIED:20251027T040002Z
UID:8794-1761955200-1762041599@ica.ivyjhs.tc.edu.tw
SUMMARY:JV Girls Volleyball @ TES
DESCRIPTION:
URL:https://ica.ivyjhs.tc.edu.tw/event/jv-girls-volleyball-tes/
END:VEVENT
BEGIN:VEVENT
DTSTART;TZID=Asia/Shanghai:20251108T070000
DTEND;TZID=Asia/Shanghai:20251108T110000
DTSTAMP:20260421T234126
CREATED:20251104T041907Z
LAST-MODIFIED:20251104T041907Z
UID:8822-1762585200-1762599600@ica.ivyjhs.tc.edu.tw
SUMMARY:SAT Testing
DESCRIPTION:
URL:https://ica.ivyjhs.tc.edu.tw/event/sat-testing-5/
END:VEVENT
BEGIN:VEVENT
DTSTART;TZID=Asia/Shanghai:20251108T093000
DTEND;TZID=Asia/Shanghai:20251108T120000
DTSTAMP:20260421T234126
CREATED:20251104T041820Z
LAST-MODIFIED:20251104T041820Z
UID:8820-1762594200-1762603200@ica.ivyjhs.tc.edu.tw
SUMMARY:Open House Presentation 9:30 AM
DESCRIPTION:
URL:https://ica.ivyjhs.tc.edu.tw/event/open-house-presentation-930-am/
END:VEVENT
BEGIN:VEVENT
DTSTART;TZID=Asia/Shanghai:20251108T123000
DTEND;TZID=Asia/Shanghai:20251109T180000
DTSTAMP:20260421T234126
CREATED:20251104T041943Z
LAST-MODIFIED:20251104T041943Z
UID:8824-1762605000-1762711200@ica.ivyjhs.tc.edu.tw
SUMMARY:Closed Weekend
DESCRIPTION:
URL:https://ica.ivyjhs.tc.edu.tw/event/closed-weekend-16/
END:VEVENT
BEGIN:VEVENT
DTSTART;TZID=Asia/Shanghai:20251111T180000
DTEND;TZID=Asia/Shanghai:20251111T210000
DTSTAMP:20260421T234126
CREATED:20251104T050825Z
LAST-MODIFIED:20251104T050825Z
UID:8870-1762884000-1762894800@ica.ivyjhs.tc.edu.tw
SUMMARY:Sports Banquet
DESCRIPTION:
URL:https://ica.ivyjhs.tc.edu.tw/event/sports-banquet-2/
END:VEVENT
BEGIN:VEVENT
DTSTART;TZID=Asia/Shanghai:20251113T190000
DTEND;TZID=Asia/Shanghai:20251113T210000
DTSTAMP:20260421T234126
CREATED:20251106T080941Z
LAST-MODIFIED:20251106T080941Z
UID:8873-1763060400-1763067600@ica.ivyjhs.tc.edu.tw
SUMMARY:19:00 - 21:00 Thesis Fair @ New Auditorium
DESCRIPTION:
URL:https://ica.ivyjhs.tc.edu.tw/event/1900-2100-thesis-fair-new-auditorium/
END:VEVENT
BEGIN:VEVENT
DTSTART;VALUE=DATE:20251115
DTEND;VALUE=DATE:20251116
DTSTAMP:20260421T234126
CREATED:20251110T034723Z
LAST-MODIFIED:20251110T034723Z
UID:8882-1763164800-1763251199@ica.ivyjhs.tc.edu.tw
SUMMARY:Boys Basketball Tournament @FCU
DESCRIPTION:
URL:https://ica.ivyjhs.tc.edu.tw/event/boys-basketball-tournament-fcu/
END:VEVENT
BEGIN:VEVENT
DTSTART;TZID=Asia/Shanghai:20251115T090000
DTEND;TZID=Asia/Shanghai:20251115T160000
DTSTAMP:20260421T234126
CREATED:20251104T042215Z
LAST-MODIFIED:20251104T042215Z
UID:8826-1763197200-1763222400@ica.ivyjhs.tc.edu.tw
SUMMARY:Common Good Day 9AM - 4 PM
DESCRIPTION:
URL:https://ica.ivyjhs.tc.edu.tw/event/common-good-day-9am-4-pm/
END:VEVENT
BEGIN:VEVENT
DTSTART;TZID=Asia/Shanghai:20251115T123000
DTEND;TZID=Asia/Shanghai:20251116T180000
DTSTAMP:20260421T234126
CREATED:20251104T042306Z
LAST-MODIFIED:20251104T042306Z
UID:8828-1763209800-1763316000@ica.ivyjhs.tc.edu.tw
SUMMARY:Closed Weekend
DESCRIPTION:
URL:https://ica.ivyjhs.tc.edu.tw/event/closed-weekend-19/
END:VEVENT
BEGIN:VEVENT
DTSTART;VALUE=DATE:20251116
DTEND;VALUE=DATE:20251117
DTSTAMP:20260421T234126
CREATED:20251110T034753Z
LAST-MODIFIED:20251110T034754Z
UID:8884-1763251200-1763337599@ica.ivyjhs.tc.edu.tw
SUMMARY:Dorm Activities - All floors
DESCRIPTION:
URL:https://ica.ivyjhs.tc.edu.tw/event/dorm-activities-all-floors/
END:VEVENT
BEGIN:VEVENT
DTSTART;TZID=Asia/Shanghai:20251117T123000
DTEND;TZID=Asia/Shanghai:20251117T130000
DTSTAMP:20260421T234126
CREATED:20251117T075442Z
LAST-MODIFIED:20251117T075442Z
UID:8964-1763382600-1763384400@ica.ivyjhs.tc.edu.tw
SUMMARY:Temple Japan Visit @New Auditorium\, starts at 12:30pm
DESCRIPTION:
URL:https://ica.ivyjhs.tc.edu.tw/event/temple-japan-visit-new-auditorium-starts-at-1230pm/
END:VEVENT
END:VCALENDAR