BEGIN:VCALENDAR
VERSION:2.0
PRODID:-//ICA - 常春藤美式寄宿學校 - ECPv6.6.4.1//NONSGML v1.0//EN
CALSCALE:GREGORIAN
METHOD:PUBLISH
X-WR-CALNAME:ICA - 常春藤美式寄宿學校
X-ORIGINAL-URL:https://ica.ivyjhs.tc.edu.tw
X-WR-CALDESC:Events for ICA - 常春藤美式寄宿學校
REFRESH-INTERVAL;VALUE=DURATION:PT1H
X-Robots-Tag:noindex
X-PUBLISHED-TTL:PT1H
BEGIN:VTIMEZONE
TZID:Asia/Shanghai
BEGIN:STANDARD
TZOFFSETFROM:+0800
TZOFFSETTO:+0800
TZNAME:CST
DTSTART:20250101T000000
END:STANDARD
END:VTIMEZONE
BEGIN:VEVENT
DTSTART;TZID=Asia/Shanghai:20251009T160000
DTEND;TZID=Asia/Shanghai:20251009T180000
DTSTAMP:20260421T234126
CREATED:20251006T031513Z
LAST-MODIFIED:20251006T031513Z
UID:8698-1760025600-1760032800@ica.ivyjhs.tc.edu.tw
SUMMARY:JV Boys Soccer / JV Girls Volleyball IIS@ICA
DESCRIPTION:
URL:https://ica.ivyjhs.tc.edu.tw/event/jv-boys-soccer-jv-girls-volleyball-iisica/
END:VEVENT
BEGIN:VEVENT
DTSTART;VALUE=DATE:20251009
DTEND;VALUE=DATE:20251010
DTSTAMP:20260421T234126
CREATED:20250915T032938Z
LAST-MODIFIED:20250915T032938Z
UID:8535-1759968000-1760054399@ica.ivyjhs.tc.edu.tw
SUMMARY:Norwich University of The Arts visit
DESCRIPTION:
URL:https://ica.ivyjhs.tc.edu.tw/event/norwich-university-of-the-arts-visit/
END:VEVENT
BEGIN:VEVENT
DTSTART;TZID=Asia/Shanghai:20251008T123000
DTEND;TZID=Asia/Shanghai:20251008T190000
DTSTAMP:20260421T234126
CREATED:20251006T031338Z
LAST-MODIFIED:20251006T031338Z
UID:8696-1759926600-1759950000@ica.ivyjhs.tc.edu.tw
SUMMARY:Varsity Boys Soccer / Varsity Girls Volleyball ICA@KAS
DESCRIPTION:
URL:https://ica.ivyjhs.tc.edu.tw/event/varsity-boys-soccer-varsity-girls-volleyball-icakas/
END:VEVENT
BEGIN:VEVENT
DTSTART;TZID=Asia/Shanghai:20251007T140000
DTEND;TZID=Asia/Shanghai:20251007T150000
DTSTAMP:20260421T234126
CREATED:20250915T032847Z
LAST-MODIFIED:20250915T032847Z
UID:8533-1759845600-1759849200@ica.ivyjhs.tc.edu.tw
SUMMARY:San Jose State University visit 2 PM
DESCRIPTION:
URL:https://ica.ivyjhs.tc.edu.tw/event/san-jose-state-university-visit-2-pm/
END:VEVENT
BEGIN:VEVENT
DTSTART;TZID=Asia/Shanghai:20251007T110000
DTEND;TZID=Asia/Shanghai:20251007T120000
DTSTAMP:20260421T234126
CREATED:20250915T032708Z
LAST-MODIFIED:20250915T032708Z
UID:8531-1759834800-1759838400@ica.ivyjhs.tc.edu.tw
SUMMARY:Temple University 11 AM
DESCRIPTION:
URL:https://ica.ivyjhs.tc.edu.tw/event/temple-university-11-am/
END:VEVENT
BEGIN:VEVENT
DTSTART;TZID=Asia/Shanghai:20251004T123000
DTEND;TZID=Asia/Shanghai:20251005T180000
DTSTAMP:20260421T234126
CREATED:20250918T075842Z
LAST-MODIFIED:20250918T075842Z
UID:8587-1759581000-1759687200@ica.ivyjhs.tc.edu.tw
SUMMARY:Open Weekend
DESCRIPTION:
URL:https://ica.ivyjhs.tc.edu.tw/event/open-weekend-20/
END:VEVENT
BEGIN:VEVENT
DTSTART;TZID=Asia/Shanghai:20251004T080000
DTEND;TZID=Asia/Shanghai:20251004T230000
DTSTAMP:20260421T234126
CREATED:20250913T082632Z
LAST-MODIFIED:20250913T082632Z
UID:8499-1759564800-1759618800@ica.ivyjhs.tc.edu.tw
SUMMARY:SAT Testing
DESCRIPTION:
URL:https://ica.ivyjhs.tc.edu.tw/event/sat-testing-3/
END:VEVENT
BEGIN:VEVENT
DTSTART;TZID=Asia/Shanghai:20251003T123000
DTEND;TZID=Asia/Shanghai:20251003T170000
DTSTAMP:20260421T234126
CREATED:20250929T032134Z
LAST-MODIFIED:20250929T032134Z
UID:8670-1759494600-1759510800@ica.ivyjhs.tc.edu.tw
SUMMARY:NSL Laser Tag Field Trip
DESCRIPTION:
URL:https://ica.ivyjhs.tc.edu.tw/event/nsl-laser-tag-field-trip/
END:VEVENT
BEGIN:VEVENT
DTSTART;TZID=Asia/Shanghai:20251003T080000
DTEND;TZID=Asia/Shanghai:20251003T090000
DTSTAMP:20260421T234126
CREATED:20250918T080428Z
LAST-MODIFIED:20250929T025907Z
UID:8601-1759478400-1759482000@ica.ivyjhs.tc.edu.tw
SUMMARY:G7\, G10 Health Check
DESCRIPTION:
URL:https://ica.ivyjhs.tc.edu.tw/event/g7-g10-health-check/
END:VEVENT
BEGIN:VEVENT
DTSTART;TZID=Asia/Shanghai:20251002T180000
DTEND;TZID=Asia/Shanghai:20251002T203000
DTSTAMP:20260421T234126
CREATED:20250913T082753Z
LAST-MODIFIED:20250929T024528Z
UID:8501-1759428000-1759437000@ica.ivyjhs.tc.edu.tw
SUMMARY:Mid-Autumn Festival BBQ 6:00 PM
DESCRIPTION:
URL:https://ica.ivyjhs.tc.edu.tw/event/mid-autumn-festival-bbq-600-pm/
END:VEVENT
BEGIN:VEVENT
DTSTART;TZID=Asia/Shanghai:20251002T083000
DTEND;TZID=Asia/Shanghai:20251002T120000
DTSTAMP:20260421T234126
CREATED:20250929T032043Z
LAST-MODIFIED:20250929T032043Z
UID:8668-1759393800-1759406400@ica.ivyjhs.tc.edu.tw
SUMMARY:AP Research and Seminar Field Trip
DESCRIPTION:
URL:https://ica.ivyjhs.tc.edu.tw/event/ap-research-and-seminar-field-trip/
END:VEVENT
BEGIN:VEVENT
DTSTART;TZID=Asia/Shanghai:20251001T160000
DTEND;TZID=Asia/Shanghai:20251001T180000
DTSTAMP:20260421T234126
CREATED:20250929T031944Z
LAST-MODIFIED:20250929T031944Z
UID:8666-1759334400-1759341600@ica.ivyjhs.tc.edu.tw
SUMMARY:Varsity Girls Volleyball MAK@ICA
DESCRIPTION:
URL:https://ica.ivyjhs.tc.edu.tw/event/varsity-girls-volleyball-makica/
END:VEVENT
BEGIN:VEVENT
DTSTART;TZID=Asia/Shanghai:20250930T123000
DTEND;TZID=Asia/Shanghai:20250930T190000
DTSTAMP:20260421T234126
CREATED:20250929T031848Z
LAST-MODIFIED:20250929T031848Z
UID:8664-1759235400-1759258800@ica.ivyjhs.tc.edu.tw
SUMMARY:JV Boys Soccer / JV Girls Volleyball @KAS
DESCRIPTION:
URL:https://ica.ivyjhs.tc.edu.tw/event/jv-boys-soccer-jv-girls-volleyball-kas/
END:VEVENT
BEGIN:VEVENT
DTSTART;TZID=Asia/Shanghai:20250929T160000
DTEND;TZID=Asia/Shanghai:20250929T180000
DTSTAMP:20260421T234126
CREATED:20250929T031735Z
LAST-MODIFIED:20250929T031735Z
UID:8662-1759161600-1759168800@ica.ivyjhs.tc.edu.tw
SUMMARY:Varsity Boys Soccer / JV Girls Volleyball MAK@ICA
DESCRIPTION:
URL:https://ica.ivyjhs.tc.edu.tw/event/varsity-boys-soccer-jv-girls-volleyball-makica/
END:VEVENT
BEGIN:VEVENT
DTSTART;TZID=Asia/Shanghai:20250927T130000
DTEND;TZID=Asia/Shanghai:20250927T180000
DTSTAMP:20260421T234126
CREATED:20250922T074104Z
LAST-MODIFIED:20250922T074104Z
UID:8620-1758978000-1758996000@ica.ivyjhs.tc.edu.tw
SUMMARY:College-bound Coffee Hour@ New Auditorium 1PM
DESCRIPTION:
URL:https://ica.ivyjhs.tc.edu.tw/event/college-bound-coffee-hour-new-auditorium-1pm/
END:VEVENT
BEGIN:VEVENT
DTSTART;TZID=Asia/Shanghai:20250927T123000
DTEND;TZID=Asia/Shanghai:20250928T180000
DTSTAMP:20260421T234126
CREATED:20250918T075738Z
LAST-MODIFIED:20250918T075751Z
UID:8585-1758976200-1759082400@ica.ivyjhs.tc.edu.tw
SUMMARY:Open Weekend
DESCRIPTION:
URL:https://ica.ivyjhs.tc.edu.tw/event/open-weekend-19/
END:VEVENT
BEGIN:VEVENT
DTSTART;TZID=Asia/Shanghai:20250927T093000
DTEND;TZID=Asia/Shanghai:20250927T120000
DTSTAMP:20260421T234126
CREATED:20250913T082449Z
LAST-MODIFIED:20250913T082449Z
UID:8497-1758965400-1758974400@ica.ivyjhs.tc.edu.tw
SUMMARY:Open House 9:30 AM
DESCRIPTION:
URL:https://ica.ivyjhs.tc.edu.tw/event/open-house-930-am/
END:VEVENT
BEGIN:VEVENT
DTSTART;VALUE=DATE:20250926
DTEND;VALUE=DATE:20250928
DTSTAMP:20260421T234126
CREATED:20250922T074412Z
LAST-MODIFIED:20250922T074412Z
UID:8626-1758844800-1759017599@ica.ivyjhs.tc.edu.tw
SUMMARY:TISSA Swimming @MAC
DESCRIPTION:
URL:https://ica.ivyjhs.tc.edu.tw/event/tissa-swimming-mac/
END:VEVENT
BEGIN:VEVENT
DTSTART;VALUE=DATE:20250926
DTEND;VALUE=DATE:20250928
DTSTAMP:20260421T234126
CREATED:20250913T082246Z
LAST-MODIFIED:20250922T074601Z
UID:8493-1758844800-1759017599@ica.ivyjhs.tc.edu.tw
SUMMARY:Camping@921 Earthquake National Memorial Site
DESCRIPTION:
URL:https://ica.ivyjhs.tc.edu.tw/event/camping921-earthquake-national-memorial-site/
END:VEVENT
BEGIN:VEVENT
DTSTART;TZID=Asia/Shanghai:20250924T153000
DTEND;TZID=Asia/Shanghai:20250924T180000
DTSTAMP:20260421T234126
CREATED:20250922T074328Z
LAST-MODIFIED:20250922T074328Z
UID:8624-1758727800-1758736800@ica.ivyjhs.tc.edu.tw
SUMMARY:Varsity Boys Soccer / Varsity Girls Volleyball IIS@ICA 3:30 PM
DESCRIPTION:
URL:https://ica.ivyjhs.tc.edu.tw/event/varsity-boys-soccer-varsity-girls-volleyball-iisica-330-pm/
END:VEVENT
BEGIN:VEVENT
DTSTART;TZID=Asia/Shanghai:20250922T150000
DTEND;TZID=Asia/Shanghai:20250922T180000
DTSTAMP:20260421T234126
CREATED:20250922T074209Z
LAST-MODIFIED:20250922T074209Z
UID:8622-1758553200-1758564000@ica.ivyjhs.tc.edu.tw
SUMMARY:Varsity Girls Volleyball KAS @Air Volleyball Count @ 3 PM
DESCRIPTION:
URL:https://ica.ivyjhs.tc.edu.tw/event/varsity-girls-volleyball-kas-air-volleyball-count-3-pm/
END:VEVENT
BEGIN:VEVENT
DTSTART;TZID=Asia/Shanghai:20250920T123000
DTEND;TZID=Asia/Shanghai:20250921T180000
DTSTAMP:20260421T234126
CREATED:20250918T075655Z
LAST-MODIFIED:20250918T075655Z
UID:8583-1758371400-1758477600@ica.ivyjhs.tc.edu.tw
SUMMARY:Closed Weekend
DESCRIPTION:
URL:https://ica.ivyjhs.tc.edu.tw/event/closed-weekend-9/
END:VEVENT
BEGIN:VEVENT
DTSTART;TZID=Asia/Shanghai:20250919T153000
DTEND;TZID=Asia/Shanghai:20250919T183000
DTSTAMP:20260421T234126
CREATED:20250915T033403Z
LAST-MODIFIED:20250915T033403Z
UID:8541-1758295800-1758306600@ica.ivyjhs.tc.edu.tw
SUMMARY:Varsity Boys Soccer \, JV Girls Volleyball KAS @ ICA 3:30 PM
DESCRIPTION:
URL:https://ica.ivyjhs.tc.edu.tw/event/varsity-boys-soccer-jv-girls-volleyball-kas-ica-330-pm/
END:VEVENT
BEGIN:VEVENT
DTSTART;TZID=Asia/Shanghai:20250919T143000
DTEND;TZID=Asia/Shanghai:20250919T153000
DTSTAMP:20260421T234126
CREATED:20250915T032615Z
LAST-MODIFIED:20250915T032615Z
UID:8529-1758292200-1758295800@ica.ivyjhs.tc.edu.tw
SUMMARY:Baylor University visit 2:30 PM
DESCRIPTION:
URL:https://ica.ivyjhs.tc.edu.tw/event/baylor-university-visit-230-pm/
END:VEVENT
BEGIN:VEVENT
DTSTART;TZID=Asia/Shanghai:20250919T110000
DTEND;TZID=Asia/Shanghai:20250919T120000
DTSTAMP:20260421T234126
CREATED:20250913T082148Z
LAST-MODIFIED:20250913T082148Z
UID:8491-1758279600-1758283200@ica.ivyjhs.tc.edu.tw
SUMMARY:School of the Art Institute of Chicago visit 11AM
DESCRIPTION:
URL:https://ica.ivyjhs.tc.edu.tw/event/school-of-the-art-institute-of-chicago-visit-11am/
END:VEVENT
BEGIN:VEVENT
DTSTART;VALUE=DATE:20250919
DTEND;VALUE=DATE:20250920
DTSTAMP:20260421T234126
CREATED:20250913T082029Z
LAST-MODIFIED:20250913T082029Z
UID:8489-1758240000-1758326399@ica.ivyjhs.tc.edu.tw
SUMMARY:Earthquake drill
DESCRIPTION:
URL:https://ica.ivyjhs.tc.edu.tw/event/earthquake-drill/
END:VEVENT
BEGIN:VEVENT
DTSTART;TZID=Asia/Shanghai:20250918T090000
DTEND;TZID=Asia/Shanghai:20250918T110000
DTSTAMP:20260421T234126
CREATED:20250913T081943Z
LAST-MODIFIED:20250913T081943Z
UID:8487-1758186000-1758193200@ica.ivyjhs.tc.edu.tw
SUMMARY:UBC Visit
DESCRIPTION:
URL:https://ica.ivyjhs.tc.edu.tw/event/ubc-visit/
END:VEVENT
BEGIN:VEVENT
DTSTART;TZID=Asia/Shanghai:20250917T153000
DTEND;TZID=Asia/Shanghai:20250917T180000
DTSTAMP:20260421T234126
CREATED:20250915T033152Z
LAST-MODIFIED:20250915T033152Z
UID:8537-1758123000-1758132000@ica.ivyjhs.tc.edu.tw
SUMMARY:JV / Varsity Boys Soccer @MAC 3:20 PM
DESCRIPTION:
URL:https://ica.ivyjhs.tc.edu.tw/event/jv-varsity-boys-soccer-mac-320-pm/
END:VEVENT
BEGIN:VEVENT
DTSTART;TZID=Asia/Shanghai:20250917T150000
DTEND;TZID=Asia/Shanghai:20250917T180000
DTSTAMP:20260421T234126
CREATED:20250915T033248Z
LAST-MODIFIED:20250915T033248Z
UID:8539-1758121200-1758132000@ica.ivyjhs.tc.edu.tw
SUMMARY:JV / Varsity Girls Volleyball @MAC 3:20 PM
DESCRIPTION:
URL:https://ica.ivyjhs.tc.edu.tw/event/jv-varsity-girls-volleyball-mac-320-pm/
END:VEVENT
BEGIN:VEVENT
DTSTART;TZID=Asia/Shanghai:20250917T110000
DTEND;TZID=Asia/Shanghai:20250917T120000
DTSTAMP:20260421T234126
CREATED:20250915T032518Z
LAST-MODIFIED:20250915T032518Z
UID:8527-1758106800-1758110400@ica.ivyjhs.tc.edu.tw
SUMMARY:UC Riverside visit 11 AM
DESCRIPTION:
URL:https://ica.ivyjhs.tc.edu.tw/event/uc-riverside-visit-11-am/
END:VEVENT
END:VCALENDAR